BEGIN:VCALENDAR
VERSION:2.0
PRODID:-//Tukios.com/
BEGIN:VEVENT
UID:b39c21f1-3225-49fa-b422-7c2ea2dce8b8@www.humistonfuneralhome.com
DTSTAMP:20260420T200718Z
DTSTART:20260423T150000Z
DTEND:20260423T160000Z
SUMMARY:Visitation
DESCRIPTION:
URL:https://www.humistonfuneralhome.com/obituaries/franklin-erik-knispel
LOCATION: 30 42nd Street  Kerhonkson NY 12446
GEO:41.7740735;-74.2983786
END:VEVENT
END:VCALENDAR