BEGIN:VCALENDAR
VERSION:2.0
PRODID:-//Tukios.com/
BEGIN:VEVENT
UID:aa972c65-dc21-42e4-a35d-8e47958a1593@www.humistonfuneralhome.com
DTSTAMP:20260420T195842Z
DTSTART:20260423T163000Z
DTEND:20260423T173000Z
SUMMARY:Interment
DESCRIPTION:
URL:https://www.humistonfuneralhome.com/obituaries/franklin-erik-knispel
LOCATION: 6075 US-209  Kerhonkson NY 12446
GEO:41.783297;-74.283353
END:VEVENT
END:VCALENDAR